BEGIN:VCALENDAR
VERSION:2.0
PRODID:-//Edlio Inc//Edlio Calendar//EN
CALSCALE:GREGORIAN
METHOD:PUBLISH
X-WR-CALNAME:Mendota Unified School District - Events
X-ORIGINAL-URL:https://www.musdaztecs.com
X-WR-CALDESC:Events calendar for www.musdaztecs.com
X-WR-TIMEZONE:US/Pacific
REFRESH-INTERVAL;VALUE=DURATION:PT1H
X-Robots-Tag:noindex
X-PUBLISHED-TTL:PT1H
BEGIN:VTIMEZONE
TZID:US/Pacific
BEGIN:STANDARD
TZOFFSETFROM:-0700
TZOFFSETTO:-0800
DTSTART:20071104T020000
RRULE:FREQ=YEARLY;BYMONTH=11;BYDAY=1SU
END:STANDARD
BEGIN:DAYLIGHT
TZOFFSETFROM:-0800
TZOFFSETTO:-0700
DTSTART:20070311T020000
RRULE:FREQ=YEARLY;BYMONTH=3;BYDAY=2SU
END:DAYLIGHT
END:VTIMEZONE
BEGIN:VTIMEZONE
TZID:US/East-Indiana
BEGIN:STANDARD
TZOFFSETFROM:-0500
TZOFFSETTO:-0500
DTSTART:19701025T020000
END:STANDARD
END:VTIMEZONE
BEGIN:VTIMEZONE
TZID:US/Eastern
BEGIN:STANDARD
TZOFFSETFROM:-0400
TZOFFSETTO:-0500
DTSTART:19701025T020000
RRULE:FREQ=YEARLY;BYMONTH=10;BYDAY=-1SU;UNTIL=20070311T020000
END:STANDARD
BEGIN:STANDARD
TZOFFSETFROM:-0400
TZOFFSETTO:-0500
DTSTART:20071104T020000
RRULE:FREQ=YEARLY;BYMONTH=11;BYDAY=1SU
END:STANDARD
BEGIN:DAYLIGHT
TZOFFSETFROM:-0500
TZOFFSETTO:-0400
DTSTART:19870405T020000
RRULE:FREQ=YEARLY;BYMONTH=4;BYDAY=1SU;UNTIL=20061029T020000
END:DAYLIGHT
BEGIN:DAYLIGHT
TZOFFSETFROM:-0500
TZOFFSETTO:-0400
DTSTART:20070311T020000
RRULE:FREQ=YEARLY;BYMONTH=3;BYDAY=2SU
END:DAYLIGHT
END:VTIMEZONE
BEGIN:VTIMEZONE
TZID:US/Michigan
BEGIN:STANDARD
TZOFFSETFROM:-0400
TZOFFSETTO:-0500
DTSTART:19701025T020000
RRULE:FREQ=YEARLY;BYMONTH=10;BYDAY=-1SU;UNTIL=20070311T020000
END:STANDARD
BEGIN:STANDARD
TZOFFSETFROM:-0400
TZOFFSETTO:-0500
DTSTART:20071104T020000
RRULE:FREQ=YEARLY;BYMONTH=11;BYDAY=1SU
END:STANDARD
BEGIN:DAYLIGHT
TZOFFSETFROM:-0500
TZOFFSETTO:-0400
DTSTART:19870405T020000
RRULE:FREQ=YEARLY;BYMONTH=4;BYDAY=1SU;UNTIL=20061029T020000
END:DAYLIGHT
BEGIN:DAYLIGHT
TZOFFSETFROM:-0500
TZOFFSETTO:-0400
DTSTART:20070311T020000
RRULE:FREQ=YEARLY;BYMONTH=3;BYDAY=2SU
END:DAYLIGHT
END:VTIMEZONE
BEGIN:VTIMEZONE
TZID:US/Central
BEGIN:STANDARD
TZOFFSETFROM:-0500
TZOFFSETTO:-0600
DTSTART:19701025T020000
RRULE:FREQ=YEARLY;BYMONTH=10;BYDAY=-1SU;UNTIL=20070311T020000
END:STANDARD
BEGIN:STANDARD
TZOFFSETFROM:-0500
TZOFFSETTO:-0600
DTSTART:20071104T020000
RRULE:FREQ=YEARLY;BYMONTH=11;BYDAY=1SU
END:STANDARD
BEGIN:DAYLIGHT
TZOFFSETFROM:-0600
TZOFFSETTO:-0500
DTSTART:19870405T020000
RRULE:FREQ=YEARLY;BYMONTH=4;BYDAY=1SU;UNTIL=20061029T020000
END:DAYLIGHT
BEGIN:DAYLIGHT
TZOFFSETFROM:-0600
TZOFFSETTO:-0500
DTSTART:20070311T020000
RRULE:FREQ=YEARLY;BYMONTH=3;BYDAY=2SU
END:DAYLIGHT
END:VTIMEZONE
BEGIN:VTIMEZONE
TZID:US/Mountain
BEGIN:STANDARD
TZOFFSETFROM:-0600
TZOFFSETTO:-0700
DTSTART:19701025T020000
RRULE:FREQ=YEARLY;BYMONTH=10;BYDAY=-1SU;UNTIL=20070311T020000
END:STANDARD
BEGIN:STANDARD
TZOFFSETFROM:-0600
TZOFFSETTO:-0700
DTSTART:20071104T020000
RRULE:FREQ=YEARLY;BYMONTH=11;BYDAY=1SU
END:STANDARD
BEGIN:DAYLIGHT
TZOFFSETFROM:-0700
TZOFFSETTO:-0600
DTSTART:19870405T020000
RRULE:FREQ=YEARLY;BYMONTH=4;BYDAY=1SU;UNTIL=20061029T020000
END:DAYLIGHT
BEGIN:DAYLIGHT
TZOFFSETFROM:-0700
TZOFFSETTO:-0600
DTSTART:20070311T020000
RRULE:FREQ=YEARLY;BYMONTH=3;BYDAY=2SU
END:DAYLIGHT
END:VTIMEZONE
BEGIN:VTIMEZONE
TZID:US/Arizona
BEGIN:STANDARD
TZOFFSETFROM:-0700
TZOFFSETTO:-0700
DTSTART:19701025T020000
END:STANDARD
END:VTIMEZONE
BEGIN:VTIMEZONE
TZID:US/Pacific
BEGIN:STANDARD
TZOFFSETFROM:-0700
TZOFFSETTO:-0800
DTSTART:19701025T020000
RRULE:FREQ=YEARLY;BYMONTH=10;BYDAY=-1SU;UNTIL=20070311T020000
END:STANDARD
BEGIN:STANDARD
TZOFFSETFROM:-0700
TZOFFSETTO:-0800
DTSTART:20071104T020000
RRULE:FREQ=YEARLY;BYMONTH=11;BYDAY=1SU
END:STANDARD
BEGIN:DAYLIGHT
TZOFFSETFROM:-0800
TZOFFSETTO:-0700
DTSTART:19870405T020000
RRULE:FREQ=YEARLY;BYMONTH=4;BYDAY=1SU;UNTIL=20061029T020000
END:DAYLIGHT
BEGIN:DAYLIGHT
TZOFFSETFROM:-0800
TZOFFSETTO:-0700
DTSTART:20070311T020000
RRULE:FREQ=YEARLY;BYMONTH=3;BYDAY=2SU
END:DAYLIGHT
END:VTIMEZONE
BEGIN:VTIMEZONE
TZID:US/Alaska
BEGIN:STANDARD
TZOFFSETFROM:-0800
TZOFFSETTO:-0900
DTSTART:19701025T020000
RRULE:FREQ=YEARLY;BYMONTH=10;BYDAY=-1SU;UNTIL=20070311T020000
END:STANDARD
BEGIN:STANDARD
TZOFFSETFROM:-0800
TZOFFSETTO:-0900
DTSTART:20071104T020000
RRULE:FREQ=YEARLY;BYMONTH=11;BYDAY=1SU
END:STANDARD
BEGIN:DAYLIGHT
TZOFFSETFROM:-0900
TZOFFSETTO:-0800
DTSTART:19870405T020000
RRULE:FREQ=YEARLY;BYMONTH=4;BYDAY=1SU;UNTIL=20061029T020000
END:DAYLIGHT
BEGIN:DAYLIGHT
TZOFFSETFROM:-0900
TZOFFSETTO:-0800
DTSTART:20070311T020000
RRULE:FREQ=YEARLY;BYMONTH=3;BYDAY=2SU
END:DAYLIGHT
END:VTIMEZONE
BEGIN:VTIMEZONE
TZID:US/Hawaii
BEGIN:STANDARD
TZOFFSETFROM:-1000
TZOFFSETTO:-1000
DTSTART:19701025T020000
END:STANDARD
END:VTIMEZONE
BEGIN:VTIMEZONE
TZID:US/Aleutian
BEGIN:STANDARD
TZOFFSETFROM:-1000
TZOFFSETTO:-1000
DTSTART:19701025T020000
END:STANDARD
END:VTIMEZONE
BEGIN:VTIMEZONE
TZID:US/Samoa
BEGIN:STANDARD
TZOFFSETFROM:-1100
TZOFFSETTO:-1100
DTSTART:19701025T020000
END:STANDARD
END:VTIMEZONE
BEGIN:VEVENT
UID:20074543@www.musdaztecs.com#20250426
SEQUENCE:1
CREATED:20241203T162601Z
LAST-MODIFIED:20241203T162601Z
DTSTART;TZID=US/Pacific:20250426T080000
DTEND;TZID=US/Pacific:20250426T140000
SUMMARY:Saturday School
CATEGORIES:Events
URL:https://www.musdaztecs.com/apps/events/20074543/
ORGANIZER;CN="Edlio Calendar":MAILTO:noreply@www.musdaztecs.com
DTSTAMP:20260423T140713Z
END:VEVENT
BEGIN:VEVENT
UID:33505749@www.musdaztecs.com#20251016
SEQUENCE:0
CREATED:20250915T165919Z
LAST-MODIFIED:20250915T165919Z
DTSTART;TZID=US/Pacific:20251016T093000
DTEND;TZID=US/Pacific:20251016T093000
SUMMARY:DELAC Meeting
LOCATION:District Parent Center
CATEGORIES:Events
URL:https://www.musdaztecs.com/apps/events/33505749/
ORGANIZER;CN="Edlio Calendar":MAILTO:noreply@www.musdaztecs.com
DTSTAMP:20260423T140713Z
END:VEVENT
BEGIN:VEVENT
UID:33505762@www.musdaztecs.com#20251113
SEQUENCE:0
CREATED:20250915T170104Z
LAST-MODIFIED:20250915T170104Z
DTSTART;TZID=US/Pacific:20251113T093000
DTEND;TZID=US/Pacific:20251113T093000
SUMMARY:DELAC Meeting
LOCATION:District Parent Center
CATEGORIES:Events
URL:https://www.musdaztecs.com/apps/events/33505762/
ORGANIZER;CN="Edlio Calendar":MAILTO:noreply@www.musdaztecs.com
DTSTAMP:20260423T140713Z
END:VEVENT
BEGIN:VEVENT
UID:33505800@www.musdaztecs.com#20260212
SEQUENCE:0
CREATED:20250915T170634Z
LAST-MODIFIED:20250915T170634Z
DTSTART;TZID=US/Pacific:20260212T093000
DTEND;TZID=US/Pacific:20260212T093000
SUMMARY:DELAC Meeting
LOCATION:District Parent Center
CATEGORIES:Events
URL:https://www.musdaztecs.com/apps/events/33505800/
ORGANIZER;CN="Edlio Calendar":MAILTO:noreply@www.musdaztecs.com
DTSTAMP:20260423T140713Z
END:VEVENT
BEGIN:VEVENT
UID:33505819@www.musdaztecs.com#20260409
SEQUENCE:0
CREATED:20250915T170941Z
LAST-MODIFIED:20250915T170941Z
DTSTART;TZID=US/Pacific:20260409T093000
DTEND;TZID=US/Pacific:20260409T093000
SUMMARY:DELAC Meeting
LOCATION:District Parent Center
CATEGORIES:Events
URL:https://www.musdaztecs.com/apps/events/33505819/
ORGANIZER;CN="Edlio Calendar":MAILTO:noreply@www.musdaztecs.com
DTSTAMP:20260423T140713Z
END:VEVENT
BEGIN:VEVENT
UID:33505742@www.musdaztecs.com#20251002
SEQUENCE:0
CREATED:20250915T165832Z
LAST-MODIFIED:20250915T165832Z
DTSTART;TZID=US/Pacific:20251002T093000
DTEND;TZID=US/Pacific:20251002T093000
SUMMARY:Title III Workshop
LOCATION:District Parent Center
CATEGORIES:Events
URL:https://www.musdaztecs.com/apps/events/33505742/
ORGANIZER;CN="Edlio Calendar":MAILTO:noreply@www.musdaztecs.com
DTSTAMP:20260423T140713Z
END:VEVENT
BEGIN:VEVENT
UID:33505773@www.musdaztecs.com#20251211
SEQUENCE:0
CREATED:20250915T170244Z
LAST-MODIFIED:20250915T170244Z
DTSTART;TZID=US/Pacific:20251211T093000
DTEND;TZID=US/Pacific:20251211T093000
SUMMARY:Title III Workshop
LOCATION:District Parent Center
CATEGORIES:Events
URL:https://www.musdaztecs.com/apps/events/33505773/
ORGANIZER;CN="Edlio Calendar":MAILTO:noreply@www.musdaztecs.com
DTSTAMP:20260423T140713Z
END:VEVENT
BEGIN:VEVENT
UID:33505811@www.musdaztecs.com#20260305
SEQUENCE:0
CREATED:20250915T170812Z
LAST-MODIFIED:20250915T170812Z
DTSTART;TZID=US/Pacific:20260305T093000
DTEND;TZID=US/Pacific:20260305T093000
SUMMARY:Title III Workshop
LOCATION:District Parent Center
CATEGORIES:Events
URL:https://www.musdaztecs.com/apps/events/33505811/
ORGANIZER;CN="Edlio Calendar":MAILTO:noreply@www.musdaztecs.com
DTSTAMP:20260423T140713Z
END:VEVENT
BEGIN:VEVENT
UID:33505816@www.musdaztecs.com#20260312
SEQUENCE:0
CREATED:20250915T170858Z
LAST-MODIFIED:20250915T170858Z
DTSTART;TZID=US/Pacific:20260312T163000
DTEND;TZID=US/Pacific:20260312T163000
SUMMARY:Migrant Conference
LOCATION:Mendota High School Cafeteria
CATEGORIES:Events
URL:https://www.musdaztecs.com/apps/events/33505816/
ORGANIZER;CN="Edlio Calendar":MAILTO:noreply@www.musdaztecs.com
DTSTAMP:20260423T140713Z
END:VEVENT
BEGIN:VEVENT
UID:20074532@www.musdaztecs.com#20250424
SEQUENCE:0
CREATED:20241203T162429Z
LAST-MODIFIED:20241203T162429Z
DTSTART;TZID=US/Pacific:20250424T163000
DTEND;TZID=US/Pacific:20250424T163000
SUMMARY:Migrant Parent Meeting
LOCATION:McCabe Cafeteria
CATEGORIES:Events
URL:https://www.musdaztecs.com/apps/events/20074532/
ORGANIZER;CN="Edlio Calendar":MAILTO:noreply@www.musdaztecs.com
DTSTAMP:20260423T140713Z
END:VEVENT
BEGIN:VEVENT
UID:33505718@www.musdaztecs.com#20250925
SEQUENCE:4
CREATED:20250915T165717Z
LAST-MODIFIED:20250915T165717Z
DTSTART;TZID=US/Pacific:20250925T163000
DTEND;TZID=US/Pacific:20250925T163000
SUMMARY:Migrant Parent Meeting
LOCATION:McCabe Cafetería
CATEGORIES:Events
URL:https://www.musdaztecs.com/apps/events/33505718/
ORGANIZER;CN="Edlio Calendar":MAILTO:noreply@www.musdaztecs.com
DTSTAMP:20260423T140713Z
END:VEVENT
BEGIN:VEVENT
UID:33505754@www.musdaztecs.com#20251023
SEQUENCE:0
CREATED:20250915T170008Z
LAST-MODIFIED:20250915T170008Z
DTSTART;TZID=US/Pacific:20251023T163000
DTEND;TZID=US/Pacific:20251023T163000
SUMMARY:Migrant Parent Meeting
LOCATION:McCabe Cafetería
CATEGORIES:Events
URL:https://www.musdaztecs.com/apps/events/33505754/
ORGANIZER;CN="Edlio Calendar":MAILTO:noreply@www.musdaztecs.com
DTSTAMP:20260423T140713Z
END:VEVENT
BEGIN:VEVENT
UID:33505766@www.musdaztecs.com#20251120
SEQUENCE:0
CREATED:20250915T170159Z
LAST-MODIFIED:20250915T170159Z
DTSTART;TZID=US/Pacific:20251120T163000
DTEND;TZID=US/Pacific:20251120T163000
SUMMARY:Migrant Parent Meeting
LOCATION:McCabe Cafetería
CATEGORIES:Events
URL:https://www.musdaztecs.com/apps/events/33505766/
ORGANIZER;CN="Edlio Calendar":MAILTO:noreply@www.musdaztecs.com
DTSTAMP:20260423T140713Z
END:VEVENT
BEGIN:VEVENT
UID:33505803@www.musdaztecs.com#20260219
SEQUENCE:1
CREATED:20250915T170730Z
LAST-MODIFIED:20250915T170730Z
DTSTART;TZID=US/Pacific:20260219T163000
DTEND;TZID=US/Pacific:20260219T163000
SUMMARY:Migrant Parent Meeting
LOCATION:McCabe Cafetería
CATEGORIES:Events
URL:https://www.musdaztecs.com/apps/events/33505803/
ORGANIZER;CN="Edlio Calendar":MAILTO:noreply@www.musdaztecs.com
DTSTAMP:20260423T140713Z
END:VEVENT
BEGIN:VEVENT
UID:33505825@www.musdaztecs.com#20260416
SEQUENCE:0
CREATED:20250915T171035Z
LAST-MODIFIED:20250915T171035Z
DTSTART;TZID=US/Pacific:20260416T163000
DTEND;TZID=US/Pacific:20260416T163000
SUMMARY:Migrant Parent Meeting
LOCATION:McCabe Cafetería
CATEGORIES:Events
URL:https://www.musdaztecs.com/apps/events/33505825/
ORGANIZER;CN="Edlio Calendar":MAILTO:noreply@www.musdaztecs.com
DTSTAMP:20260423T140713Z
END:VEVENT
END:VCALENDAR
